BEGIN:VCALENDAR
VERSION:2.0
PRODID:-//Moon Mag - ECPv6.15.20//NONSGML v1.0//EN
CALSCALE:GREGORIAN
METHOD:PUBLISH
X-WR-CALNAME:Moon Mag
X-ORIGINAL-URL:https://moongenova.com
X-WR-CALDESC:Eventi per Moon Mag
REFRESH-INTERVAL;VALUE=DURATION:PT1H
X-Robots-Tag:noindex
X-PUBLISHED-TTL:PT1H
BEGIN:VTIMEZONE
TZID:UTC
BEGIN:STANDARD
TZOFFSETFROM:+0000
TZOFFSETTO:+0000
TZNAME:UTC
DTSTART:20230101T000000
END:STANDARD
END:VTIMEZONE
BEGIN:VEVENT
DTSTART;TZID=UTC:20240516T180000
DTEND;TZID=UTC:20240516T210000
DTSTAMP:20260421T020457
CREATED:20240429T125655Z
LAST-MODIFIED:20240429T130730Z
UID:2168-1715882400-1715893200@moongenova.com
SUMMARY:SWAP PARTY
DESCRIPTION:[vc_row type=”in_container” full_screen_row_position=”middle” column_margin=”default” column_direction=”default” column_direction_tablet=”default” column_direction_phone=”default” scene_position=”center” text_color=”dark” text_align=”left” row_border_radius=”none” row_border_radius_applies=”bg” overflow=”visible” overlay_strength=”0.3″ gradient_direction=”left_to_right” shape_divider_position=”bottom” bg_image_animation=”none”][vc_column column_padding=”no-extra-padding” column_padding_tablet=”inherit” column_padding_phone=”inherit” column_padding_position=”all” column_element_direction_desktop=”default” column_element_spacing=”default” desktop_text_alignment=”default” tablet_text_alignment=”default” phone_text_alignment=”default” background_color_opacity=”1″ background_hover_color_opacity=”1″ column_backdrop_filter=”none” font_color=”#efeee4″ column_shadow=”none” column_border_radius=”none” column_link_target=”_self” column_position=”default” gradient_direction=”left_to_right” overlay_strength=”0.3″ width=”1/4″ tablet_width_inherit=”default” animation_type=”default” bg_image_animation=”none” border_type=”simple” column_border_width=”none” column_border_style=”solid” column_padding_type=”default” gradient_type=”default”][/vc_column][vc_column column_padding=”no-extra-padding” column_padding_tablet=”inherit” column_padding_phone=”inherit” column_padding_position=”all” column_element_direction_desktop=”default” column_element_spacing=”default” desktop_text_alignment=”default” tablet_text_alignment=”default” phone_text_alignment=”default” background_color_opacity=”1″ background_hover_color_opacity=”1″ column_backdrop_filter=”none” font_color=”#efeee4″ column_shadow=”none” column_border_radius=”none” column_link_target=”_self” column_position=”default” gradient_direction=”left_to_right” overlay_strength=”0.3″ width=”1/2″ tablet_width_inherit=”default” animation_type=”default” bg_image_animation=”none” border_type=”simple” column_border_width=”none” column_border_style=”solid” column_padding_type=”default” gradient_type=”default”][vc_column_text text_direction=”default”]Il tuo armadio è pieno di vestiti e accessori inutilizzati? Partecipa allo Swap Party by Moon!\nLo Swap Party è un modo divertente e sostenibile per aggiornare il tuo guardaroba.\nUna festa dove potrai scambiare capi d’abbigliamento e accessori che non utilizzi più e goderti uno splendido aperitivo in compagnia del Team Moon e di Marta\, Closet Organizer e consulente di stile! \nRegolamento: \n– Potrai scambiare un minimo di 3 capi/accessori\, un massimo di 5;\n– I capi dovranno essere lavati ed in buone condizioni;\n– Il giorno che precede l’evento dovrai consegnare i tuoi capi in salone. \nI POSTI SONO LIMITATI\, iscrizione obbligatoria[/vc_column_text][/vc_column][vc_column column_padding=”no-extra-padding” column_padding_tablet=”inherit” column_padding_phone=”inherit” column_padding_position=”all” column_element_direction_desktop=”default” column_element_spacing=”default” desktop_text_alignment=”default” tablet_text_alignment=”default” phone_text_alignment=”default” background_color_opacity=”1″ background_hover_color_opacity=”1″ column_backdrop_filter=”none” column_shadow=”none” column_border_radius=”none” column_link_target=”_self” column_position=”default” gradient_direction=”left_to_right” overlay_strength=”0.3″ width=”1/4″ tablet_width_inherit=”default” animation_type=”default” bg_image_animation=”none” border_type=”simple” column_border_width=”none” column_border_style=”solid”][/vc_column][/vc_row]
URL:https://moongenova.com/event/swappartymaggio/
LOCATION:MOON\, Via Pisa\, 55R\, Genova\, 16146\, Italia
CATEGORIES:Swap Party
ATTACH;FMTTYPE=image/jpeg:https://moongenova.com/wp-content/uploads/2024/04/swapPARTYmoon.jpg
ORGANIZER;CN="MOON":MAILTO:moongenova@gmail.com
END:VEVENT
END:VCALENDAR