BEGIN:VCALENDAR
VERSION:2.0
PRODID:-//Moon Mag - ECPv6.15.20//NONSGML v1.0//EN
CALSCALE:GREGORIAN
METHOD:PUBLISH
X-WR-CALNAME:Moon Mag
X-ORIGINAL-URL:https://moongenova.com
X-WR-CALDESC:Eventi per Moon Mag
REFRESH-INTERVAL;VALUE=DURATION:PT1H
X-Robots-Tag:noindex
X-PUBLISHED-TTL:PT1H
BEGIN:VTIMEZONE
TZID:UTC
BEGIN:STANDARD
TZOFFSETFROM:+0000
TZOFFSETTO:+0000
TZNAME:UTC
DTSTART:20230101T000000
END:STANDARD
END:VTIMEZONE
BEGIN:VEVENT
DTSTART;VALUE=DATE:20240925
DTEND;VALUE=DATE:20240926
DTSTAMP:20260420T221415
CREATED:20240915T180343Z
LAST-MODIFIED:20240915T180343Z
UID:2274-1727222400-1727308799@moongenova.com
SUMMARY:25 Settembre: Corso di Make-up Breathe
DESCRIPTION:[vc_row type=”in_container” full_screen_row_position=”middle” column_margin=”default” column_direction=”default” column_direction_tablet=”default” column_direction_phone=”default” scene_position=”center” text_color=”dark” text_align=”left” row_border_radius=”none” row_border_radius_applies=”bg” overflow=”visible” overlay_strength=”0.3″ gradient_direction=”left_to_right” shape_divider_position=”bottom” bg_image_animation=”none”][vc_column column_padding=”no-extra-padding” column_padding_tablet=”inherit” column_padding_phone=”inherit” column_padding_position=”all” column_element_direction_desktop=”default” column_element_spacing=”default” desktop_text_alignment=”default” tablet_text_alignment=”default” phone_text_alignment=”default” background_color_opacity=”1″ background_hover_color_opacity=”1″ column_backdrop_filter=”none” font_color=”#efeee4″ column_shadow=”none” column_border_radius=”none” column_link_target=”_self” column_position=”default” gradient_direction=”left_to_right” overlay_strength=”0.3″ width=”1/2″ tablet_width_inherit=”default” animation_type=”default” bg_image_animation=”none” border_type=”simple” column_border_width=”none” column_border_style=”solid” column_padding_type=”default” gradient_type=”default”][vc_column_text text_direction=”default”]Sei appassionata di make-up ma non riesci mai a ottenere il risultato sperato? Ti piacerebbe imparare tutti i segreti per valorizzare al massimo i tuoi lineamenti?[/vc_column_text][vc_column_text text_direction=”default”]\nMercoledì 25 settembre\, partecipa all’esclusivo Corso in collaborazione con Breathe.\n[/vc_column_text][vc_column_text text_direction=”default”]Avrai l’opportunità di scoprire tutte le tecniche e i trucchi per un make-up perfetto\, grazie alla preziosa presenza della make – up artist Micol Tomaselli. \nAbbiamo previsto due sessioni per adattarci ai vostri impegni:\nDalle 10:00 alle 12:00\nDalle 18:00 alle 20:00 \nAttenzione però\, i posti sono limitati a 4 nella sessione del mattino e 6 nella sessiore serale… Prenota subito la tua partecipazione nel form qui sotto ⬇️ \nTi aspettiamo![/vc_column_text][/vc_column][vc_column column_padding=”no-extra-padding” column_padding_tablet=”inherit” column_padding_phone=”inherit” column_padding_position=”all” column_element_direction_desktop=”default” column_element_spacing=”default” desktop_text_alignment=”default” tablet_text_alignment=”default” phone_text_alignment=”default” background_color_opacity=”1″ background_hover_color_opacity=”1″ column_backdrop_filter=”none” column_shadow=”none” column_border_radius=”none” column_link_target=”_self” column_position=”default” gradient_direction=”left_to_right” overlay_strength=”0.3″ width=”1/2″ tablet_width_inherit=”default” animation_type=”default” bg_image_animation=”none” border_type=”simple” column_border_width=”none” column_border_style=”solid”][nectar_video_player_self_hosted video_mp4=”https://moongenova.com/wp-content/uploads/2024/03/Snapinsta.app_video_322051845_1228934941399630_5842127749786049155_n-1.mp4″ el_aspect=”916″ player_functionality=”lightbox” play_button_style=”default” play_button_color=”#57505e” play_button_icon_color=”#efeee4″ border_radius=”none” box_shadow=”none” advanced_gradient_display_type=”linear”][/vc_column][/vc_row]
URL:https://moongenova.com/event/25-settembre-corso-di-make-up-breathe/
LOCATION:MOON\, Via Pisa\, 55R\, Genova\, 16146\, Italia
CATEGORIES:Trucco
ATTACH;FMTTYPE=image/jpeg:https://moongenova.com/wp-content/uploads/2024/09/pexels-andersonguerra-1115128.jpg
ORGANIZER;CN="MOON":MAILTO:moongenova@gmail.com
END:VEVENT
BEGIN:VEVENT
DTSTART;TZID=UTC:20240530T180000
DTEND;TZID=UTC:20240530T210000
DTSTAMP:20260420T221415
CREATED:20240315T133539Z
LAST-MODIFIED:20240325T155020Z
UID:1828-1717092000-1717102800@moongenova.com
SUMMARY:Corso di Make-up
DESCRIPTION:[vc_row type=”in_container” full_screen_row_position=”middle” column_margin=”default” column_direction=”default” column_direction_tablet=”default” column_direction_phone=”default” scene_position=”center” text_color=”dark” text_align=”left” row_border_radius=”none” row_border_radius_applies=”bg” overflow=”visible” overlay_strength=”0.3″ gradient_direction=”left_to_right” shape_divider_position=”bottom” bg_image_animation=”none”][vc_column column_padding=”no-extra-padding” column_padding_tablet=”inherit” column_padding_phone=”inherit” column_padding_position=”all” column_element_direction_desktop=”default” column_element_spacing=”default” desktop_text_alignment=”default” tablet_text_alignment=”default” phone_text_alignment=”default” background_color_opacity=”1″ background_hover_color_opacity=”1″ column_backdrop_filter=”none” font_color=”#efeee4″ column_shadow=”none” column_border_radius=”none” column_link_target=”_self” column_position=”default” gradient_direction=”left_to_right” overlay_strength=”0.3″ width=”1/2″ tablet_width_inherit=”default” animation_type=”default” bg_image_animation=”none” border_type=”simple” column_border_width=”none” column_border_style=”solid” column_padding_type=”default” gradient_type=”default”][vc_column_text text_direction=”default”]Vuoi imparare ogni segreto del Make-up? Vieni al corso e scopri come truccarti in maniera impeccabile… e se durante l’evento vuoi acquistare dei prodotti ti scaleremo la cifra dal costo del corso![/vc_column_text][/vc_column][vc_column column_padding=”no-extra-padding” column_padding_tablet=”inherit” column_padding_phone=”inherit” column_padding_position=”all” column_element_direction_desktop=”default” column_element_spacing=”default” desktop_text_alignment=”default” tablet_text_alignment=”default” phone_text_alignment=”default” background_color_opacity=”1″ background_hover_color_opacity=”1″ column_backdrop_filter=”none” column_shadow=”none” column_border_radius=”none” column_link_target=”_self” column_position=”default” gradient_direction=”left_to_right” overlay_strength=”0.3″ width=”1/2″ tablet_width_inherit=”default” animation_type=”default” bg_image_animation=”none” border_type=”simple” column_border_width=”none” column_border_style=”solid”][nectar_video_player_self_hosted video_mp4=”https://moongenova.com/wp-content/uploads/2024/03/Snapinsta.app_video_322051845_1228934941399630_5842127749786049155_n-1.mp4″ el_aspect=”916″ player_functionality=”lightbox” play_button_style=”default” play_button_color=”#57505e” play_button_icon_color=”#efeee4″ border_radius=”none” box_shadow=”none” advanced_gradient_display_type=”linear”][/vc_column][/vc_row]
URL:https://moongenova.com/event/corso-di-make-up/
LOCATION:MOON\, Via Pisa\, 55R\, Genova\, 16146\, Italia
CATEGORIES:Trucco
ATTACH;FMTTYPE=image/jpeg:https://moongenova.com/wp-content/uploads/2024/02/giornataTRUCCO.jpg
ORGANIZER;CN="MOON":MAILTO:moongenova@gmail.com
END:VEVENT
BEGIN:VEVENT
DTSTART;VALUE=DATE:20240413
DTEND;VALUE=DATE:20240414
DTSTAMP:20260420T221415
CREATED:20240315T134652Z
LAST-MODIFIED:20240325T143854Z
UID:1836-1712966400-1713052799@moongenova.com
SUMMARY:INDEPENDENT: Presentazione nuova collezione
DESCRIPTION:[vc_row type=”in_container” full_screen_row_position=”middle” column_margin=”default” column_direction=”default” column_direction_tablet=”default” column_direction_phone=”default” scene_position=”center” text_color=”dark” text_align=”left” row_border_radius=”none” row_border_radius_applies=”bg” overflow=”visible” overlay_strength=”0.3″ gradient_direction=”left_to_right” shape_divider_position=”bottom” bg_image_animation=”none”][vc_column column_padding=”no-extra-padding” column_padding_tablet=”inherit” column_padding_phone=”inherit” column_padding_position=”all” column_element_direction_desktop=”default” column_element_spacing=”default” desktop_text_alignment=”default” tablet_text_alignment=”default” phone_text_alignment=”default” background_color_opacity=”1″ background_hover_color_opacity=”1″ column_backdrop_filter=”none” font_color=”#efeee4″ column_shadow=”none” column_border_radius=”none” column_link_target=”_self” column_position=”default” gradient_direction=”left_to_right” overlay_strength=”0.3″ width=”1/2″ tablet_width_inherit=”default” animation_type=”default” bg_image_animation=”none” border_type=”simple” column_border_width=”none” column_border_style=”solid” column_padding_type=”default” gradient_type=”default”][vc_column_text text_direction=”default”]Vieni a trovarci il 12 e 13 Aprile per scoprire con noi i nuovi capi della collezione primavera/estate 2024 del marchio INDEPENDENT.[/vc_column_text][/vc_column][vc_column column_padding=”no-extra-padding” column_padding_tablet=”inherit” column_padding_phone=”inherit” column_padding_position=”all” column_element_direction_desktop=”default” column_element_spacing=”default” desktop_text_alignment=”default” tablet_text_alignment=”default” phone_text_alignment=”default” background_color_opacity=”1″ background_hover_color_opacity=”1″ column_backdrop_filter=”none” column_shadow=”none” column_border_radius=”none” column_link_target=”_self” column_position=”default” gradient_direction=”left_to_right” overlay_strength=”0.3″ width=”1/2″ tablet_width_inherit=”default” animation_type=”default” bg_image_animation=”none” border_type=”simple” column_border_width=”none” column_border_style=”solid”][nectar_video_player_self_hosted video_mp4=”https://moongenova.com/wp-content/uploads/2024/03/Snapinsta.app_video_120033849_274595245683352_3394362782590983855_n-1.mp4″ el_aspect=”916″ player_functionality=”lightbox” play_button_style=”default” play_button_color=”#57505e” play_button_icon_color=”#efeee4″ border_radius=”none” box_shadow=”none” advanced_gradient_display_type=”linear”][/vc_column][/vc_row]
URL:https://moongenova.com/event/independent-primaveraestate24/
LOCATION:MOON\, Via Pisa\, 55R\, Genova\, 16146\, Italia
CATEGORIES:Trucco
ATTACH;FMTTYPE=image/jpeg:https://moongenova.com/wp-content/uploads/2024/03/moon_brands_eventoINDE.jpg.jpg
ORGANIZER;CN="MOON":MAILTO:moongenova@gmail.com
END:VEVENT
BEGIN:VEVENT
DTSTART;TZID=UTC:20240219T080000
DTEND;TZID=UTC:20240219T170000
DTSTAMP:20260420T221415
CREATED:20240219T150846Z
LAST-MODIFIED:20240311T104615Z
UID:1125-1708329600-1708362000@moongenova.com
SUMMARY:Giornata del trucco gratuito
DESCRIPTION:Saranno con noi Alessandra Mozzicato e Silvia Miglietti\, specialiste in massaggio bioenergetico che mira a sciogliere le tensioni muscolari croniche del corpo e a ristabilire quindi la naturale mobilità ed espressività dell’organismo.\nChi vorrà potrà effettuare gratuitamente il test bioenergetico e scoprire come trarne beneficio.
URL:https://moongenova.com/event/test-bioenergetico/
CATEGORIES:Trucco
ATTACH;FMTTYPE=image/jpeg:https://moongenova.com/wp-content/uploads/2024/02/giornataTRUCCO.jpg
END:VEVENT
END:VCALENDAR